Package: matchBox Version: 1.51.0 Maintainer: Luigi Marchionni , Anuj Gupta MaintainerEmail: agupta52 at jhu.edu git_url: https://git.bioconductor.org/packages/matchBox git_branch: devel git_last_commit: 4a34534 git_last_commit_date: 2025-04-15 10:16:21 -0400 (Tue, 15 Apr 2025)