Package: mastR Version: 1.9.0 Command: /home/biocbuild/R/R/bin/R CMD build --keep-empty-dirs --no-resave-data mastR StartedAt: 2025-07-01 00:44:02 -0000 (Tue, 01 Jul 2025) EndedAt: 2025-07-01 01:24:02 -0000 (Tue, 01 Jul 2025) EllapsedTime: 2400.1 seconds RetCode: None Status: TIMEOUT PackageFile: None PackageFileSize: NA