Package: mastR Version: 1.9.1 Command: F:\biocbuild\bbs-3.22-bioc\R\bin\R.exe CMD check --no-multiarch --install=check:mastR.install-out.txt --library=F:\biocbuild\bbs-3.22-bioc\R\library --no-vignettes --timings mastR_1.9.1.tar.gz StartedAt: 2025-07-18 03:31:49 -0400 (Fri, 18 Jul 2025) EndedAt: 2025-07-18 03:57:00 -0400 (Fri, 18 Jul 2025) EllapsedTime: 1511.2 seconds RetCode: 0 Status: OK CheckDir: mastR.Rcheck Warnings: 0