Package: mastR Version: 1.9.1 Command: rm -rf mastR.buildbin-libdir && mkdir mastR.buildbin-libdir && F:\biocbuild\bbs-3.22-bioc\R\bin\R.exe CMD INSTALL --build --library=mastR.buildbin-libdir mastR_1.9.1.tar.gz StartedAt: 2025-07-15 09:17:27 -0400 (Tue, 15 Jul 2025) EndedAt: 2025-07-15 09:18:29 -0400 (Tue, 15 Jul 2025) EllapsedTime: 62.6 seconds RetCode: 0 Status: OK PackageFile: mastR_1.9.1.zip PackageFileSize: 3.177 MiB