Package: mastR Version: 1.9.1 Command: /Library/Frameworks/R.framework/Resources/bin/R CMD build --keep-empty-dirs --no-resave-data mastR StartedAt: 2025-07-01 16:46:41 -0400 (Tue, 01 Jul 2025) EndedAt: 2025-07-01 16:47:42 -0400 (Tue, 01 Jul 2025) EllapsedTime: 60.7 seconds RetCode: 0 Status: OK PackageFile: mastR_1.9.1.tar.gz PackageFileSize: 4.142 MiB