Package: mastR Version: 1.9.1 Command: rm -rf mastR.buildbin-libdir && mkdir mastR.buildbin-libdir && /Users/biocbuild/BBS/utils/build-universal.sh mastR_1.9.1.tar.gz /Library/Frameworks/R.framework/Resources/bin/R mastR.buildbin-libdir StartedAt: 2025-07-01 22:24:08 -0400 (Tue, 01 Jul 2025) EndedAt: 2025-07-01 22:24:27 -0400 (Tue, 01 Jul 2025) EllapsedTime: 18.4 seconds RetCode: 0 Status: OK PackageFile: mastR_1.9.1.tgz PackageFileSize: 4.34 MiB