Package: massiR Version: 1.45.0 Command: /home/biocbuild/R/R/bin/R CMD INSTALL massiR StartedAt: 2025-07-10 21:17:58 -0000 (Thu, 10 Jul 2025) EndedAt: 2025-07-10 21:18:02 -0000 (Thu, 10 Jul 2025) EllapsedTime: 4.3 seconds RetCode: 0 Status: OK