Package: maskBAD Version: 1.53.0 Command: /Library/Frameworks/R.framework/Resources/bin/R CMD check --install=check:maskBAD.install-out.txt --library=/Library/Frameworks/R.framework/Resources/library --no-vignettes --timings maskBAD_1.53.0.tar.gz StartedAt: 2025-07-21 20:00:24 -0400 (Mon, 21 Jul 2025) EndedAt: 2025-07-21 20:00:58 -0400 (Mon, 21 Jul 2025) EllapsedTime: 34.4 seconds RetCode: 0 Status: OK CheckDir: maskBAD.Rcheck Warnings: 0