Package: maskBAD Version: 1.53.0 Command: rm -rf maskBAD.buildbin-libdir && mkdir maskBAD.buildbin-libdir && /Users/biocbuild/BBS/utils/build-universal.sh maskBAD_1.53.0.tar.gz /Library/Frameworks/R.framework/Resources/bin/R maskBAD.buildbin-libdir StartedAt: 2025-07-21 22:30:37 -0400 (Mon, 21 Jul 2025) EndedAt: 2025-07-21 22:30:42 -0400 (Mon, 21 Jul 2025) EllapsedTime: 5.2 seconds RetCode: 0 Status: OK PackageFile: maskBAD_1.53.0.tgz PackageFileSize: 1.584 MiB