Package: maser Version: 1.27.0 Command: /home/biocbuild/R/R/bin/R CMD INSTALL maser StartedAt: 2025-07-17 21:03:45 -0000 (Thu, 17 Jul 2025) EndedAt: 2025-07-17 21:04:55 -0000 (Thu, 17 Jul 2025) EllapsedTime: 70.8 seconds RetCode: 0 Status: OK