Package: maser Version: 1.27.0 Command: F:\biocbuild\bbs-3.22-bioc\R\bin\R.exe CMD check --no-multiarch --install=check:maser.install-out.txt --library=F:\biocbuild\bbs-3.22-bioc\R\library --no-vignettes --timings maser_1.27.0.tar.gz StartedAt: 2025-07-12 03:27:37 -0400 (Sat, 12 Jul 2025) EndedAt: 2025-07-12 03:35:14 -0400 (Sat, 12 Jul 2025) EllapsedTime: 457.0 seconds RetCode: 0 Status: OK CheckDir: maser.Rcheck Warnings: 0