Package: maser Version: 1.27.0 Command: /Library/Frameworks/R.framework/Resources/bin/R CMD INSTALL maser StartedAt: 2025-07-14 15:24:47 -0400 (Mon, 14 Jul 2025) EndedAt: 2025-07-14 15:25:10 -0400 (Mon, 14 Jul 2025) EllapsedTime: 23.1 seconds RetCode: 0 Status: OK