Package: maser Version: 1.27.0 Command: /Library/Frameworks/R.framework/Resources/bin/R CMD build --keep-empty-dirs --no-resave-data maser StartedAt: 2025-07-14 16:46:55 -0400 (Mon, 14 Jul 2025) EndedAt: 2025-07-14 16:48:05 -0400 (Mon, 14 Jul 2025) EllapsedTime: 69.9 seconds RetCode: 0 Status: OK PackageFile: maser_1.27.0.tar.gz PackageFileSize: 3.017 MiB