Package: maser Version: 1.27.0 Command: rm -rf maser.buildbin-libdir && mkdir maser.buildbin-libdir && /Users/biocbuild/BBS/utils/build-universal.sh maser_1.27.0.tar.gz /Library/Frameworks/R.framework/Resources/bin/R maser.buildbin-libdir StartedAt: 2025-07-14 22:24:10 -0400 (Mon, 14 Jul 2025) EndedAt: 2025-07-14 22:24:35 -0400 (Mon, 14 Jul 2025) EllapsedTime: 24.5 seconds RetCode: 0 Status: OK PackageFile: maser_1.27.0.tgz PackageFileSize: 3.893 MiB