Package: martini Version: 1.29.0 Command: F:\biocbuild\bbs-3.22-bioc\R\bin\R.exe CMD INSTALL martini StartedAt: 2025-07-22 16:45:01 -0400 (Tue, 22 Jul 2025) EndedAt: 2025-07-22 16:47:46 -0400 (Tue, 22 Jul 2025) EllapsedTime: 165.1 seconds RetCode: 0 Status: OK