Package: martini Version: 1.29.0 Command: chmod a+r martini -R && F:\biocbuild\bbs-3.22-bioc\R\bin\R.exe CMD build --keep-empty-dirs --no-resave-data martini StartedAt: 2025-07-22 20:06:01 -0400 (Tue, 22 Jul 2025) EndedAt: 2025-07-22 20:07:00 -0400 (Tue, 22 Jul 2025) EllapsedTime: 59.0 seconds RetCode: 0 Status: OK PackageFile: martini_1.29.0.tar.gz PackageFileSize: 2.89 MiB