Package: martini Version: 1.29.0 Command: /Library/Frameworks/R.framework/Resources/bin/R CMD build --keep-empty-dirs --no-resave-data martini StartedAt: 2025-07-14 16:46:54 -0400 (Mon, 14 Jul 2025) EndedAt: 2025-07-14 16:47:05 -0400 (Mon, 14 Jul 2025) EllapsedTime: 11.1 seconds RetCode: 0 Status: OK PackageFile: martini_1.29.0.tar.gz PackageFileSize: 3.009 MiB