Package: marray Version: 1.87.0 Command: /home/biocbuild/R/R/bin/R CMD build --keep-empty-dirs --no-resave-data marray StartedAt: 2025-07-11 01:51:09 -0000 (Fri, 11 Jul 2025) EndedAt: 2025-07-11 01:51:52 -0000 (Fri, 11 Jul 2025) EllapsedTime: 43.0 seconds RetCode: 0 Status: OK PackageFile: marray_1.87.0.tar.gz PackageFileSize: 5.579 MiB