Package: marray Version: 1.87.0 Command: /Library/Frameworks/R.framework/Resources/bin/R CMD INSTALL marray StartedAt: 2025-10-03 15:01:54 -0400 (Fri, 03 Oct 2025) EndedAt: 2025-10-03 15:01:57 -0400 (Fri, 03 Oct 2025) EllapsedTime: 3.1 seconds RetCode: 0 Status: OK