Package: marray Version: 1.87.0 Command: /Library/Frameworks/R.framework/Resources/bin/R CMD build --keep-empty-dirs --no-resave-data marray StartedAt: 2025-10-03 16:52:40 -0400 (Fri, 03 Oct 2025) EndedAt: 2025-10-03 16:53:05 -0400 (Fri, 03 Oct 2025) EllapsedTime: 24.3 seconds RetCode: 0 Status: OK PackageFile: marray_1.87.0.tar.gz PackageFileSize: 5.637 MiB