Package: marray Version: 1.87.0 Command: rm -rf marray.buildbin-libdir && mkdir marray.buildbin-libdir && /Users/biocbuild/BBS/utils/build-universal.sh marray_1.87.0.tar.gz /Library/Frameworks/R.framework/Resources/bin/R marray.buildbin-libdir StartedAt: 2025-10-03 22:44:38 -0400 (Fri, 03 Oct 2025) EndedAt: 2025-10-03 22:44:42 -0400 (Fri, 03 Oct 2025) EllapsedTime: 4.1 seconds RetCode: 0 Status: OK PackageFile: marray_1.87.0.tgz PackageFileSize: 6.079 MiB