Package: marr Version: 1.19.0 Command: F:\biocbuild\bbs-3.22-bioc\R\bin\R.exe CMD INSTALL marr StartedAt: 2025-07-21 16:11:06 -0400 (Mon, 21 Jul 2025) EndedAt: 2025-07-21 16:11:49 -0400 (Mon, 21 Jul 2025) EllapsedTime: 42.9 seconds RetCode: 0 Status: OK