Package: marr Version: 1.19.0 Command: chmod a+r marr -R && F:\biocbuild\bbs-3.22-bioc\R\bin\R.exe CMD build --keep-empty-dirs --no-resave-data marr StartedAt: 2025-07-21 20:08:03 -0400 (Mon, 21 Jul 2025) EndedAt: 2025-07-21 20:09:48 -0400 (Mon, 21 Jul 2025) EllapsedTime: 104.5 seconds RetCode: 0 Status: OK PackageFile: marr_1.19.0.tar.gz PackageFileSize: 584.1 KiB