Package: markeR Version: 0.99.6 Command: /home/biocbuild/R/R/bin/R CMD check --install=check:markeR.install-out.txt --library=/home/biocbuild/R/R/site-library --no-vignettes --timings markeR_0.99.6.tar.gz StartedAt: 2025-10-03 08:39:08 -0000 (Fri, 03 Oct 2025) EndedAt: 2025-10-03 08:46:00 -0000 (Fri, 03 Oct 2025) EllapsedTime: 411.7 seconds RetCode: 0 Status: OK CheckDir: markeR.Rcheck Warnings: 0