Package: markeR Version: 0.99.6 Command: /home/biocbuild/R/R/bin/R CMD build --keep-empty-dirs --no-resave-data markeR StartedAt: 2025-10-03 01:00:35 -0000 (Fri, 03 Oct 2025) EndedAt: 2025-10-03 01:06:10 -0000 (Fri, 03 Oct 2025) EllapsedTime: 335.1 seconds RetCode: 0 Status: OK PackageFile: markeR_0.99.6.tar.gz PackageFileSize: 3.545 MiB