Package: markeR Version: 0.99.6 Command: /home/biocbuild/bbs-3.22-bioc/R/bin/R CMD check --install=check:markeR.install-out.txt --library=/home/biocbuild/bbs-3.22-bioc/R/site-library --timings markeR_0.99.6.tar.gz StartedAt: 2025-10-06 01:21:38 -0400 (Mon, 06 Oct 2025) EndedAt: 2025-10-06 01:31:14 -0400 (Mon, 06 Oct 2025) EllapsedTime: 576.7 seconds RetCode: 0 Status: OK CheckDir: markeR.Rcheck Warnings: 0