Package: markeR Version: 0.99.6 Command: /Library/Frameworks/R.framework/Resources/bin/R CMD build --keep-empty-dirs --no-resave-data markeR StartedAt: 2025-10-06 16:53:30 -0400 (Mon, 06 Oct 2025) EndedAt: 2025-10-06 16:55:32 -0400 (Mon, 06 Oct 2025) EllapsedTime: 122.4 seconds RetCode: 0 Status: OK PackageFile: markeR_0.99.6.tar.gz PackageFileSize: 3.839 MiB