Package: markeR Version: 0.99.6 Maintainer: Rita Martins-Silva MaintainerEmail: rita.silva at medicina.ulisboa.pt git_url: https://git.bioconductor.org/packages/markeR git_branch: devel git_last_commit: ed5e482 git_last_commit_date: 2025-10-01 12:23:37 -0400 (Wed, 01 Oct 2025)