Package: mariner Version: 1.9.1 Command: /home/biocbuild/R/R/bin/R CMD INSTALL mariner StartedAt: 2025-07-24 21:41:41 -0000 (Thu, 24 Jul 2025) EndedAt: 2025-07-24 21:42:34 -0000 (Thu, 24 Jul 2025) EllapsedTime: 53.4 seconds RetCode: 0 Status: OK