Package: mariner Version: 1.9.1 Command: /home/biocbuild/R/R/bin/R CMD build --keep-empty-dirs --no-resave-data mariner StartedAt: 2025-07-25 01:40:48 -0000 (Fri, 25 Jul 2025) EndedAt: 2025-07-25 01:42:55 -0000 (Fri, 25 Jul 2025) EllapsedTime: 127.0 seconds RetCode: 1 Status: ERROR PackageFile: None PackageFileSize: NA