Package: mapscape Version: 1.33.0 Command: /Library/Frameworks/R.framework/Resources/bin/R CMD build --keep-empty-dirs --no-resave-data mapscape StartedAt: 2025-10-06 17:40:55 -0400 (Mon, 06 Oct 2025) EndedAt: 2025-10-06 17:41:11 -0400 (Mon, 06 Oct 2025) EllapsedTime: 16.1 seconds RetCode: 0 Status: OK PackageFile: mapscape_1.33.0.tar.gz PackageFileSize: 4.794 MiB