Package: magrene Version: 1.11.0 Command: /Library/Frameworks/R.framework/Resources/bin/R CMD build --keep-empty-dirs --no-resave-data magrene StartedAt: 2025-07-22 16:45:56 -0400 (Tue, 22 Jul 2025) EndedAt: 2025-07-22 16:46:14 -0400 (Tue, 22 Jul 2025) EllapsedTime: 18.2 seconds RetCode: 0 Status: OK PackageFile: magrene_1.11.0.tar.gz PackageFileSize: 2.256 MiB