Package: magrene Version: 1.11.0 Command: rm -rf magrene.buildbin-libdir && mkdir magrene.buildbin-libdir && /Users/biocbuild/BBS/utils/build-universal.sh magrene_1.11.0.tar.gz /Library/Frameworks/R.framework/Resources/bin/R magrene.buildbin-libdir StartedAt: 2025-07-22 22:29:24 -0400 (Tue, 22 Jul 2025) EndedAt: 2025-07-22 22:29:27 -0400 (Tue, 22 Jul 2025) EllapsedTime: 2.0 seconds RetCode: 0 Status: OK PackageFile: magrene_1.11.0.tgz PackageFileSize: 2.189 MiB