Package: magpie Version: 1.9.0 Command: F:\biocbuild\bbs-3.22-bioc\R\bin\R.exe CMD check --no-multiarch --install=check:magpie.install-out.txt --library=F:\biocbuild\bbs-3.22-bioc\R\library --no-vignettes --timings magpie_1.9.0.tar.gz StartedAt: 2025-07-18 03:28:04 -0400 (Fri, 18 Jul 2025) EndedAt: 2025-07-18 03:33:13 -0400 (Fri, 18 Jul 2025) EllapsedTime: 308.6 seconds RetCode: 0 Status: WARNINGS CheckDir: magpie.Rcheck Warnings: 1