Package: magpie Version: 1.9.0 Command: chmod a+r magpie -R && F:\biocbuild\bbs-3.22-bioc\R\bin\R.exe CMD build --keep-empty-dirs --no-resave-data magpie StartedAt: 2025-07-14 20:04:30 -0400 (Mon, 14 Jul 2025) EndedAt: 2025-07-14 20:05:49 -0400 (Mon, 14 Jul 2025) EllapsedTime: 79.2 seconds RetCode: 0 Status: OK PackageFile: magpie_1.9.0.tar.gz PackageFileSize: 1.539 MiB