Package: magpie Version: 1.9.0 Command: rm -rf magpie.buildbin-libdir && mkdir magpie.buildbin-libdir && F:\biocbuild\bbs-3.22-bioc\R\bin\R.exe CMD INSTALL --build --library=magpie.buildbin-libdir magpie_1.9.0.tar.gz StartedAt: 2025-07-15 09:16:15 -0400 (Tue, 15 Jul 2025) EndedAt: 2025-07-15 09:17:29 -0400 (Tue, 15 Jul 2025) EllapsedTime: 73.9 seconds RetCode: 0 Status: OK PackageFile: magpie_1.9.0.zip PackageFileSize: 1.364 MiB