Package: magpie Version: 1.9.0 Command: /Library/Frameworks/R.framework/Resources/bin/R CMD build --keep-empty-dirs --no-resave-data magpie StartedAt: 2025-07-15 16:45:16 -0400 (Tue, 15 Jul 2025) EndedAt: 2025-07-15 16:45:41 -0400 (Tue, 15 Jul 2025) EllapsedTime: 25.3 seconds RetCode: 0 Status: OK PackageFile: magpie_1.9.0.tar.gz PackageFileSize: 2.289 MiB