Package: made4 Version: 1.83.0 Command: F:\biocbuild\bbs-3.22-bioc\R\bin\R.exe CMD check --no-multiarch --install=check:made4.install-out.txt --library=F:\biocbuild\bbs-3.22-bioc\R\library --no-vignettes --timings made4_1.83.0.tar.gz StartedAt: 2025-08-15 04:42:42 -0400 (Fri, 15 Aug 2025) EndedAt: 2025-08-15 04:45:55 -0400 (Fri, 15 Aug 2025) EllapsedTime: 192.5 seconds RetCode: 0 Status: OK CheckDir: made4.Rcheck Warnings: 0