Package: made4 Version: 1.83.0 Command: chmod a+r made4 -R && F:\biocbuild\bbs-3.22-bioc\R\bin\R.exe CMD build --keep-empty-dirs --no-resave-data made4 StartedAt: 2025-08-14 21:10:56 -0400 (Thu, 14 Aug 2025) EndedAt: 2025-08-14 21:12:04 -0400 (Thu, 14 Aug 2025) EllapsedTime: 68.1 seconds RetCode: 0 Status: OK PackageFile: made4_1.83.0.tar.gz PackageFileSize: 1.623 MiB