Package: made4 Version: 1.83.0 Command: rm -rf made4.buildbin-libdir && mkdir made4.buildbin-libdir && F:\biocbuild\bbs-3.22-bioc\R\bin\R.exe CMD INSTALL --build --library=made4.buildbin-libdir made4_1.83.0.tar.gz StartedAt: 2025-08-15 10:36:45 -0400 (Fri, 15 Aug 2025) EndedAt: 2025-08-15 10:37:31 -0400 (Fri, 15 Aug 2025) EllapsedTime: 45.9 seconds RetCode: 0 Status: OK PackageFile: made4_1.83.0.zip PackageFileSize: 1.387 MiB