Package: maSigPro Version: 1.81.0 Command: F:\biocbuild\bbs-3.22-bioc\R\bin\R.exe CMD INSTALL maSigPro StartedAt: 2025-07-20 15:24:10 -0400 (Sun, 20 Jul 2025) EndedAt: 2025-07-20 15:24:37 -0400 (Sun, 20 Jul 2025) EllapsedTime: 26.9 seconds RetCode: 0 Status: OK