Package: maSigPro Version: 1.81.0 Command: F:\biocbuild\bbs-3.22-bioc\R\bin\R.exe CMD check --no-multiarch --install=check:maSigPro.install-out.txt --library=F:\biocbuild\bbs-3.22-bioc\R\library --no-vignettes --timings maSigPro_1.81.0.tar.gz StartedAt: 2025-07-22 03:40:48 -0400 (Tue, 22 Jul 2025) EndedAt: 2025-07-22 03:43:47 -0400 (Tue, 22 Jul 2025) EllapsedTime: 178.3 seconds RetCode: 0 Status: OK CheckDir: maSigPro.Rcheck Warnings: 0