Package: maSigPro Version: 1.81.0 Command: rm -rf maSigPro.buildbin-libdir && mkdir maSigPro.buildbin-libdir && /Users/biocbuild/BBS/utils/build-universal.sh maSigPro_1.81.0.tar.gz /Library/Frameworks/R.framework/Resources/bin/R maSigPro.buildbin-libdir StartedAt: 2025-07-21 22:30:34 -0400 (Mon, 21 Jul 2025) EndedAt: 2025-07-21 22:30:37 -0400 (Mon, 21 Jul 2025) EllapsedTime: 3.1 seconds RetCode: 0 Status: OK PackageFile: maSigPro_1.81.0.tgz PackageFileSize: 1.685 MiB