Package: mCSEA Version: 1.29.0 Command: /Library/Frameworks/R.framework/Resources/bin/R CMD check --install=check:mCSEA.install-out.txt --library=/Library/Frameworks/R.framework/Resources/library --no-vignettes --timings mCSEA_1.29.0.tar.gz StartedAt: 2025-07-22 20:02:45 -0400 (Tue, 22 Jul 2025) EndedAt: 2025-07-22 20:04:54 -0400 (Tue, 22 Jul 2025) EllapsedTime: 129.6 seconds RetCode: 0 Status: OK CheckDir: mCSEA.Rcheck Warnings: 0