Package: mBPCR Version: 1.63.0 Command: /home/biocbuild/R/R/bin/R CMD INSTALL mBPCR StartedAt: 2025-07-07 20:26:20 -0000 (Mon, 07 Jul 2025) EndedAt: 2025-07-07 20:26:59 -0000 (Mon, 07 Jul 2025) EllapsedTime: 38.9 seconds RetCode: 0 Status: OK