Package: mBPCR Version: 1.63.0 Command: /home/biocbuild/R/R/bin/R CMD check --install=check:mBPCR.install-out.txt --library=/home/biocbuild/R/R/site-library --no-vignettes --timings mBPCR_1.63.0.tar.gz StartedAt: 2025-07-11 09:42:51 -0000 (Fri, 11 Jul 2025) EndedAt: 2025-07-11 09:47:24 -0000 (Fri, 11 Jul 2025) EllapsedTime: 272.2 seconds RetCode: 0 Status: OK CheckDir: mBPCR.Rcheck Warnings: 0