Package: mBPCR Version: 1.63.0 Command: /Library/Frameworks/R.framework/Resources/bin/R CMD INSTALL mBPCR StartedAt: 2025-07-02 15:13:52 -0400 (Wed, 02 Jul 2025) EndedAt: 2025-07-02 15:14:05 -0400 (Wed, 02 Jul 2025) EllapsedTime: 13.0 seconds RetCode: 0 Status: OK