Package: mBPCR Version: 1.63.0 Command: /Library/Frameworks/R.framework/Resources/bin/R CMD check --install=check:mBPCR.install-out.txt --library=/Library/Frameworks/R.framework/Resources/library --no-vignettes --timings mBPCR_1.63.0.tar.gz StartedAt: 2025-07-02 19:58:47 -0400 (Wed, 02 Jul 2025) EndedAt: 2025-07-02 20:00:13 -0400 (Wed, 02 Jul 2025) EllapsedTime: 86.1 seconds RetCode: 0 Status: OK CheckDir: mBPCR.Rcheck Warnings: 0