Package: m6Aboost Version: 1.15.1 Command: /Library/Frameworks/R.framework/Resources/bin/R CMD INSTALL m6Aboost StartedAt: 2025-06-30 15:44:13 -0400 (Mon, 30 Jun 2025) EndedAt: 2025-06-30 15:45:14 -0400 (Mon, 30 Jun 2025) EllapsedTime: 60.7 seconds RetCode: 0 Status: OK