Package: m6Aboost Version: 1.15.1 Command: /Library/Frameworks/R.framework/Resources/bin/R CMD build --keep-empty-dirs --no-resave-data m6Aboost StartedAt: 2025-06-30 17:16:17 -0400 (Mon, 30 Jun 2025) EndedAt: 2025-06-30 17:17:42 -0400 (Mon, 30 Jun 2025) EllapsedTime: 84.9 seconds RetCode: 0 Status: OK PackageFile: m6Aboost_1.15.1.tar.gz PackageFileSize: 759.5 KiB